BEGIN:VCALENDAR
VERSION:2.0
PRODID:-//RAAIT - Responsible Applied AI - ECPv6.15.20//NONSGML v1.0//EN
CALSCALE:GREGORIAN
METHOD:PUBLISH
X-WR-CALNAME:RAAIT - Responsible Applied AI
X-ORIGINAL-URL:https://raait.nl
X-WR-CALDESC:Evenementen voor RAAIT - Responsible Applied AI
REFRESH-INTERVAL;VALUE=DURATION:PT1H
X-Robots-Tag:noindex
X-PUBLISHED-TTL:PT1H
BEGIN:VTIMEZONE
TZID:Europe/Amsterdam
BEGIN:DAYLIGHT
TZOFFSETFROM:+0100
TZOFFSETTO:+0200
TZNAME:CEST
DTSTART:20250330T010000
END:DAYLIGHT
BEGIN:STANDARD
TZOFFSETFROM:+0200
TZOFFSETTO:+0100
TZNAME:CET
DTSTART:20251026T010000
END:STANDARD
BEGIN:DAYLIGHT
TZOFFSETFROM:+0100
TZOFFSETTO:+0200
TZNAME:CEST
DTSTART:20260329T010000
END:DAYLIGHT
BEGIN:STANDARD
TZOFFSETFROM:+0200
TZOFFSETTO:+0100
TZNAME:CET
DTSTART:20261025T010000
END:STANDARD
BEGIN:DAYLIGHT
TZOFFSETFROM:+0100
TZOFFSETTO:+0200
TZNAME:CEST
DTSTART:20270328T010000
END:DAYLIGHT
BEGIN:STANDARD
TZOFFSETFROM:+0200
TZOFFSETTO:+0100
TZNAME:CET
DTSTART:20271031T010000
END:STANDARD
END:VTIMEZONE
BEGIN:VEVENT
DTSTART;TZID=Europe/Amsterdam:20260417T123000
DTEND;TZID=Europe/Amsterdam:20260417T143000
DTSTAMP:20260421T114537
CREATED:20260313T082541Z
LAST-MODIFIED:20260313T082633Z
UID:10000074-1776429000-1776436200@raait.nl
SUMMARY:AI op de werkvloer: zo begin je
DESCRIPTION:AI roept veel vragen op. Waar begin je? Wat betekent het voor je medewerkers? En hoe zorg je dat jouw organisatie er écht beter van wordt? \nOp vrijdag 17 april van 12.30 tot 14.30 uur organiseert INretail een gratis AI-werksessie in het Retailhuis in Zeist. Geen technische training\, maar een praktische sessie over hoe je AI slim en verantwoord integreert binnen jouw organisatie. Inloop is vanaf 12.00 uur met een eenvoudige lunch. \nVoor wie is de werksessie bedoeld?\nDeze middag is speciaal voor werkgevers\, HR-professionals en teamleiders die werken in een organisatie met medewerkers en interne structuren. Denk aan bedrijven waar beleidskeuzes\, personeelsontwikkeling en begeleiding een rol spelen bij het gebruik van nieuwe technologieën. Je hoeft geen technische kennis te hebben\, maar wél nieuwsgierig zijn naar wat AI voor je organisatie en je team kan betekenen. \nDit gaan we bespreken\nWe gaan in op organisatievraagstukken: \n\nHoe neem je je team mee in AI-veranderingen?\nHoe pas je AI toe binnen HR\, planning of werving?\nWat is een slim AI-beleid of gebruikskader?\nEn hoe zorg je voor draagvlak en duurzame adoptie?\n\n\nWat kun je verwachten?\n\nJe werkt met een helder 10-stappenplan voor AI-integratie in jouw organisatie.\nThema’s zoals leiderschap\, beleid\, opleiding en begeleiding komen aan bod.\nJe leert van andere ondernemers en gaat naar huis met een concreet actieplan.\nDe sessie draait om visie\, structuur en toepassing in de praktijk.\nDeze sessie helpt je om AI niet als trucje\, maar als strategische kans te benaderen. Mensgericht\, toekomstbestendig en concreet.\n\n\nPraktische informatie\nDatum: vrijdag 17 april\nTijd: 12.30 tot 14.30 uur (inloop vanaf 12.00 uur)\nLocatie: INretail\, Zeist\nGratis voor leden (ter waarde van € 195 per persoon). Let op: beperkt aantal plekken en vol = vol
URL:https://raait.nl/event/ai-op-de-werkvloer-zo-begin-je/
LOCATION:INretail\, Arnhemse Bovenweg100\, Zeist\, Utrecht\, 3708 AG\, Netherlands
CATEGORIES:Workshop
ATTACH;FMTTYPE=image/png:https://raait.nl/wp-content/uploads/2025/10/Schermafbeelding-2025-10-01-123013.png
ORGANIZER;CN="INretail":MAILTO:info@inretail.nl
END:VEVENT
END:VCALENDAR